BEGIN:VCALENDAR
VERSION:2.0
PRODID:-//hacksw/handcal//NONSGML v1.0//EN
CALSCALE:GREGORIAN
BEGIN:VEVENT
DTEND:20160213T160000
UID:1245DTSTAMP:20260423T105353Z
LOCATION:HSV-Wien\, Sektion Schießen\, In den Gabrissen 91\, 1210 Wien
DESCRIPTION:offener Bewerb
URL;VALUE=URI:http://schiessen.hsv-wien.at
SUMMARY:1. Wiener Cup SSLG (HAG)
DTSTART:20160212T080000
END:VEVENT
END:VCALENDAR