BEGIN:VCALENDAR
VERSION:2.0
PRODID:-//hacksw/handcal//NONSGML v1.0//EN
CALSCALE:GREGORIAN
BEGIN:VEVENT
DTEND:20160305T160000
UID:1246DTSTAMP:20260423T112331Z
LOCATION:HSV-Wien\, Sektion Schießen\, In den Gabrissen 91\, 1210 Wien
DESCRIPTION:Offener Bewerb. Gewehre mit OV\, ZF\, Karabiner kurz. Verlosung eines Ordonnanzgewehres
URL;VALUE=URI:http://schiessen.hsv-wien.at
SUMMARY:1. Cup Ordonnanzgewehr
DTSTART:20160304T080000
END:VEVENT
END:VCALENDAR