BEGIN:VCALENDAR
VERSION:2.0
PRODID:-//hacksw/handcal//NONSGML v1.0//EN
CALSCALE:GREGORIAN
BEGIN:VEVENT
DTEND:20160402T160000
UID:1248DTSTAMP:20260423T112101Z
LOCATION:HSV-Wien\, Sektion Schießen\, In den Gabrissen 91\, 1210 Wien
DESCRIPTION:Single Shot\, UHR-GK\, UHR-KK
URL;VALUE=URI:http://schiessen.hsv-wien.at
SUMMARY:Stammersdorfer Bisonjagd 1
DTSTART:20160401T080000
END:VEVENT
END:VCALENDAR