BEGIN:VCALENDAR
VERSION:2.0
PRODID:-//hacksw/handcal//NONSGML v1.0//EN
CALSCALE:GREGORIAN
BEGIN:VEVENT
DTEND:20160409T160000
UID:1250DTSTAMP:20260421T142610Z
LOCATION:HSV-Wien\, Sektion Schießen\, In den Gabrissen 91\, 1210 Wien
DESCRIPTION:Teamshooting/Einzelwertung\, 12\,5 m &amp\; 100 m
URL;VALUE=URI:http://schiessen.hsv-wien.at
SUMMARY:SSLG-SSG-FFW
DTSTART:20160408T080000
END:VEVENT
END:VCALENDAR