BEGIN:VCALENDAR
VERSION:2.0
PRODID:-//hacksw/handcal//NONSGML v1.0//EN
CALSCALE:GREGORIAN
BEGIN:VEVENT
DTEND:20160611T160000
UID:1256DTSTAMP:20260423T112659Z
LOCATION:HSV-Wien\, Sektion Schießen\, In den Gabrissen 91\, 1210 Wien
DESCRIPTION:Bewerb der 5 Bereiche
URL;VALUE=URI:http://schiessen.hsv-wien.at
SUMMARY:Master of Western 2016
DTSTART:20160611T080000
END:VEVENT
END:VCALENDAR