BEGIN:VCALENDAR
VERSION:2.0
PRODID:-//hacksw/handcal//NONSGML v1.0//EN
CALSCALE:GREGORIAN
BEGIN:VEVENT
DTEND:20160709T160000
UID:1258DTSTAMP:20260423T104032Z
LOCATION:HSV-Wien\, Sektion Schießen\, In den Gabrissen 91\, 1210 Wien
DESCRIPTION:Kombiwertung 12\,5 m &amp\; 100 m
URL;VALUE=URI:http://schiessen.hsv-wien.at
SUMMARY:FFW-SSLG Kombibewerb
DTSTART:20160708T080000
END:VEVENT
END:VCALENDAR