BEGIN:VCALENDAR
VERSION:2.0
PRODID:-//hacksw/handcal//NONSGML v1.0//EN
CALSCALE:GREGORIAN
BEGIN:VEVENT
DTEND:20161001T160000
UID:1264DTSTAMP:20260423T103837Z
LOCATION:HSV-Wien\, Sektion Schießen\, In den Gabrissen 91\, 1210 Wien
DESCRIPTION:Single Shot\, UHR-GK\, UHR-KK
URL;VALUE=URI:http://schiessen.hsv-wien.at
SUMMARY:Stammersdorfer Bisonjagd 2
DTSTART:20160930T080000
END:VEVENT
END:VCALENDAR