BEGIN:VCALENDAR
VERSION:2.0
PRODID:-//hacksw/handcal//NONSGML v1.0//EN
CALSCALE:GREGORIAN
BEGIN:VEVENT
DTEND:20161022T160000
UID:1265DTSTAMP:20260423T112010Z
LOCATION:HSV-Wien\, Sektion Schießen\, In den Gabrissen 91\, 1210 Wien
DESCRIPTION:
URL;VALUE=URI:http://schiessen.hsv-wien.at
SUMMARY:Österreichischen Meisterschaft Ordonnanzgewehr 2016
DTSTART:20161020T080000
END:VEVENT
END:VCALENDAR