BEGIN:VCALENDAR
VERSION:2.0
PRODID:-//hacksw/handcal//NONSGML v1.0//EN
CALSCALE:GREGORIAN
BEGIN:VEVENT
DTEND:20161210T000000
UID:1266DTSTAMP:20260423T112634Z
LOCATION:HSV-Wien\, Sektion Schießen\, In den Gabrissen 91\, 1210 Wien
DESCRIPTION:alle Langwaffen\, außer Flinten
URL;VALUE=URI:http://schiessen.hsv-wien.at
SUMMARY:Sternderlschießen 2016
DTSTART:20161210T000000
END:VEVENT
END:VCALENDAR