BEGIN:VCALENDAR
VERSION:2.0
PRODID:-//hacksw/handcal//NONSGML v1.0//EN
CALSCALE:GREGORIAN
BEGIN:VEVENT
DTEND:20180224T000000
UID:2430DTSTAMP:20260423T124551Z
LOCATION:HSV-Wien\, Sektion Schießen\, In den Gabrissen 91\, 1210 Wien
DESCRIPTION:
URL;VALUE=URI:http://schiessen.hsv-wien.at
SUMMARY:Kombi Team Shooting und Einzelwertung
DTSTART:20180223T000000
END:VEVENT
END:VCALENDAR