BEGIN:VCALENDAR
VERSION:2.0
PRODID:-//hacksw/handcal//NONSGML v1.0//EN
CALSCALE:GREGORIAN
BEGIN:VEVENT
DTEND:
UID:2488DTSTAMP:20260423T125821Z
LOCATION:HSV-Wien\, Sektion Schießen\, In den Gabrissen 91\, 1210 Wien
DESCRIPTION:
URL;VALUE=URI:http://schiessen.hsv-wien.at
SUMMARY:VSD 2018  VIENNA SHOOTING DAYS
DTSTART:
END:VEVENT
END:VCALENDAR