BEGIN:VCALENDAR
VERSION:2.0
PRODID:-//hacksw/handcal//NONSGML v1.0//EN
CALSCALE:GREGORIAN
BEGIN:VEVENT
DTEND:
UID:2691DTSTAMP:20260421T142501Z
LOCATION:HSV-Wien\, Sektion Schießen\, In den Gabrissen 91\, 1210 Wien
DESCRIPTION:
URL;VALUE=URI:http://schiessen.hsv-wien.at
SUMMARY:1. Cup SSLG &amp\; AUG-Z
DTSTART:
END:VEVENT
END:VCALENDAR