BEGIN:VCALENDAR
VERSION:2.0
PRODID:-//hacksw/handcal//NONSGML v1.0//EN
CALSCALE:GREGORIAN
BEGIN:VEVENT
DTEND:
UID:2719DTSTAMP:20260423T105656Z
LOCATION:Mehrzweck Platz
DESCRIPTION:
URL;VALUE=URI:http://schiessen.hsv-wien.at
SUMMARY:Dueling Tree Battle FFW ab 9mm
DTSTART:
END:VEVENT
END:VCALENDAR