BEGIN:VCALENDAR
VERSION:2.0
PRODID:-//hacksw/handcal//NONSGML v1.0//EN
CALSCALE:GREGORIAN
BEGIN:VEVENT
DTEND:
UID:2720DTSTAMP:20260423T112405Z
LOCATION:Mehrzweck Platz
DESCRIPTION:
URL;VALUE=URI:http://schiessen.hsv-wien.at
SUMMARY:3 GUN
DTSTART:
END:VEVENT
END:VCALENDAR