BEGIN:VCALENDAR
VERSION:2.0
PRODID:-//hacksw/handcal//NONSGML v1.0//EN
CALSCALE:GREGORIAN
BEGIN:VEVENT
DTEND:
UID:2924DTSTAMP:20260423T105353Z
LOCATION:HSV-Wien\, Sektion Schießen\, In den Gabrissen 91\, 1210 Wien
DESCRIPTION:100 Meter SSG u. SSLG\, 12\,5 Meter FFW
URL;VALUE=URI:http://schiessen.hsv-wien.at
SUMMARY:Kombi Team-Shooting u. Kombi Einzelwertung
DTSTART:
END:VEVENT
END:VCALENDAR