BEGIN:VCALENDAR
VERSION:2.0
PRODID:-//hacksw/handcal//NONSGML v1.0//EN
CALSCALE:GREGORIAN
BEGIN:VEVENT
DTEND:20201003T130000
UID:2960DTSTAMP:20260423T111959Z
LOCATION:HSV-Wien\, Sektion Schießen\, In den Gabrissen 91\, 1210 Wien
DESCRIPTION:
URL;VALUE=URI:http://schiessen.hsv-wien.at
SUMMARY:Österreichische Meisterschaft Ordonnanzgewehr                                                             Auf Grund der Covid19 Unsicherheiten ABGESAGT
DTSTART:20201001T140000
END:VEVENT
END:VCALENDAR