BEGIN:VCALENDAR
VERSION:2.0
PRODID:-//hacksw/handcal//NONSGML v1.0//EN
CALSCALE:GREGORIAN
BEGIN:VEVENT
DTEND:
UID:3354DTSTAMP:20260423T103603Z
LOCATION:HSV-Wien\, Sektion Schießen\, In den Gabrissen 91\, 1210 Wien
DESCRIPTION:Ausgebucht. Keine Meldungen mehr möglich!
URL;VALUE=URI:http://schiessen.hsv-wien.at
SUMMARY:Panzer &amp\; Präzision
DTSTART:
END:VEVENT
END:VCALENDAR