BEGIN:VCALENDAR
VERSION:2.0
PRODID:-//hacksw/handcal//NONSGML v1.0//EN
CALSCALE:GREGORIAN
BEGIN:VEVENT
DTEND:20220625T130000
UID:3360DTSTAMP:20260423T104855Z
LOCATION:HSV-Wien\, Sektion Schießen\, In den Gabrissen 91\, 1210 Wien
DESCRIPTION:
URL;VALUE=URI:http://schiessen.hsv-wien.at
SUMMARY:Ordonnanzgewehr Offene Visierung u. ZF
DTSTART:20220624T131500
END:VEVENT
END:VCALENDAR