BEGIN:VCALENDAR
VERSION:2.0
PRODID:-//hacksw/handcal//NONSGML v1.0//EN
CALSCALE:GREGORIAN
BEGIN:VEVENT
DTEND:
UID:3372DTSTAMP:20260421T143314Z
LOCATION:HSV-Wien\, Sektion Schießen\, In den Gabrissen 91\, 1210 Wien
DESCRIPTION:
URL;VALUE=URI:http://schiessen.hsv-wien.at
SUMMARY:3.Wiener Landescup SSLG 2022
DTSTART:
END:VEVENT
END:VCALENDAR