BEGIN:VCALENDAR
VERSION:2.0
PRODID:-//hacksw/handcal//NONSGML v1.0//EN
CALSCALE:GREGORIAN
BEGIN:VEVENT
DTEND:
UID:3379DTSTAMP:20260423T104855Z
LOCATION:100 Meter
DESCRIPTION:Alle Startplätze vergeben!

Im Anschluss an den Weihnachtsbewerb finden auch die Preisverleihungen der Jahres-Cup-Bewerbe statt!
URL;VALUE=URI:http://schiessen.hsv-wien.at
SUMMARY:Weihnachtsschießen Repetiergewehr &amp\; Halbautomaten
DTSTART:
END:VEVENT
END:VCALENDAR