BEGIN:VCALENDAR
VERSION:2.0
PRODID:-//hacksw/handcal//NONSGML v1.0//EN
CALSCALE:GREGORIAN
BEGIN:VEVENT
DTEND:
UID:3464DTSTAMP:20260423T105224Z
LOCATION:HSV-Wien\, Sektion Schießen\, In den Gabrissen 91\, 1210 Wien
DESCRIPTION:Nur noch am Fr. 24.02. Startplätze frei!
URL;VALUE=URI:http://schiessen.hsv-wien.at
SUMMARY:1. Wiener Cup SSLG Sportschützenlandesverband
DTSTART:
END:VEVENT
END:VCALENDAR