BEGIN:VCALENDAR
VERSION:2.0
PRODID:-//hacksw/handcal//NONSGML v1.0//EN
CALSCALE:GREGORIAN
BEGIN:VEVENT
DTEND:
UID:3470DTSTAMP:20260423T105521Z
LOCATION:HSV-Wien\, Sektion Schießen\, In den Gabrissen 91\, 1210 Wien
DESCRIPTION:Teilnahme nur mit gültigen Wiener Sportschützenpass
URL;VALUE=URI:http://schiessen.hsv-wien.at
SUMMARY:2. Wiener Cup SSLG Sportschützenlandesverband
DTSTART:
END:VEVENT
END:VCALENDAR