BEGIN:VCALENDAR
VERSION:2.0
PRODID:-//hacksw/handcal//NONSGML v1.0//EN
CALSCALE:GREGORIAN
BEGIN:VEVENT
DTEND:
UID:3474DTSTAMP:20260423T112355Z
LOCATION:HSV-Wien\, Sektion Schießen\, In den Gabrissen 91\, 1210 Wien
DESCRIPTION:FFW 12\,5Meter &amp\; SSLG 100Meter
URL;VALUE=URI:http://schiessen.hsv-wien.at
SUMMARY:Kombibewerb 100M&amp\;12.5M
DTSTART:
END:VEVENT
END:VCALENDAR