BEGIN:VCALENDAR
VERSION:2.0
PRODID:-//hacksw/handcal//NONSGML v1.0//EN
CALSCALE:GREGORIAN
BEGIN:VEVENT
DTEND:
UID:3535DTSTAMP:20260423T124733Z
LOCATION:Schießstätte des SV Bad Zell\, Gutauer Str. 14\, 4283 Bad Zell
DESCRIPTION:Die ÖM findet in Bad Zell Oberösterreich statt. Meldung nur über Landessportleiter OG\, Martin Rojdl per Mail: rojdl.martin@gmail.com   Nennschluss: 27.08.2023

 
URL;VALUE=URI:http://schiessen.hsv-wien.at
SUMMARY:Österreichische Meisterschaft Ordonnanzgewehr
DTSTART:
END:VEVENT
END:VCALENDAR