BEGIN:VCALENDAR
VERSION:2.0
PRODID:-//hacksw/handcal//NONSGML v1.0//EN
CALSCALE:GREGORIAN
BEGIN:VEVENT
DTEND:
UID:3539DTSTAMP:20260423T112554Z
LOCATION:HSV-Wien\, Sektion Schießen\, In den Gabrissen 91\, 1210 Wien
DESCRIPTION:Terminänderung auf 20. - 21.10.2023
URL;VALUE=URI:http://schiessen.hsv-wien.at
SUMMARY:3. Cup SSLG &amp\; AUG-Z
DTSTART:
END:VEVENT
END:VCALENDAR