BEGIN:VCALENDAR
VERSION:2.0
PRODID:-//hacksw/handcal//NONSGML v1.0//EN
CALSCALE:GREGORIAN
BEGIN:VEVENT
DTEND:
UID:3631DTSTAMP:20260423T111945Z
LOCATION:HSV-Wien\, Sektion Schießen\, In den Gabrissen 91\, 1210 Wien
DESCRIPTION:Eintrag am 18.02. 20:20. Samstag\, 24.02. alle Startplätze bereits vergeben!

Freitag\, 23.02. noch einige Startplätze frei ab 14:45.
URL;VALUE=URI:http://schiessen.hsv-wien.at
SUMMARY:1. HSV Cup SSLG &amp\; AUG-Z
DTSTART:
END:VEVENT
END:VCALENDAR