BEGIN:VCALENDAR
VERSION:2.0
PRODID:-//hacksw/handcal//NONSGML v1.0//EN
CALSCALE:GREGORIAN
BEGIN:VEVENT
DTEND:
UID:4087DTSTAMP:20260423T104020Z
LOCATION:HSV-Wien\, Sektion Schießen\, In den Gabrissen 91\, 1210 Wien
DESCRIPTION:Abgesagt.
URL;VALUE=URI:http://schiessen.hsv-wien.at
SUMMARY:HAG - SSLG mit Großem Magazin 20 Schuss
DTSTART:
END:VEVENT
END:VCALENDAR