BEGIN:VCALENDAR
VERSION:2.0
PRODID:-//hacksw/handcal//NONSGML v1.0//EN
CALSCALE:GREGORIAN
BEGIN:VEVENT
DTEND:
UID:4088DTSTAMP:20260423T102133Z
LOCATION:HSV-Wien\, Sektion Schießen\, In den Gabrissen 91\, 1210 Wien
DESCRIPTION:Abgesagt. Der 1. SSLV Cup kann beim nächsten Termin nachgeschossen werden.
URL;VALUE=URI:http://schiessen.hsv-wien.at
SUMMARY:SSLV Wien 1.Cup SSLG
DTSTART:
END:VEVENT
END:VCALENDAR