BEGIN:VCALENDAR
VERSION:2.0
PRODID:-//hacksw/handcal//NONSGML v1.0//EN
CALSCALE:GREGORIAN
BEGIN:VEVENT
DTEND:
UID:4089DTSTAMP:20260423T112350Z
LOCATION:HSV-Wien\, Sektion Schießen\, In den Gabrissen 91\, 1210 Wien
DESCRIPTION:Achtung! Bewerbe nur am Samstag!
URL;VALUE=URI:http://schiessen.hsv-wien.at
SUMMARY:1. HSV Cup Ordonnanzgewehr Sitzend Liegend
DTSTART:
END:VEVENT
END:VCALENDAR