BEGIN:VCALENDAR
VERSION:2.0
PRODID:-//hacksw/handcal//NONSGML v1.0//EN
CALSCALE:GREGORIAN
BEGIN:VEVENT
DTEND:
UID:4091DTSTAMP:20260423T104129Z
LOCATION:HSV-Wien\, Sektion Schießen\, In den Gabrissen 91\, 1210 Wien
DESCRIPTION:Achtung! Bewerb nur am Samstag\, 14.03.2026!
URL;VALUE=URI:http://schiessen.hsv-wien.at
SUMMARY:SSLV Wien 1. Cup Ordonnanzgewehr
DTSTART:
END:VEVENT
END:VCALENDAR