BEGIN:VCALENDAR
VERSION:2.0
PRODID:-//hacksw/handcal//NONSGML v1.0//EN
CALSCALE:GREGORIAN
BEGIN:VEVENT
DTEND:
UID:4093DTSTAMP:20260423T112255Z
LOCATION:HSV-Wien\, Sektion Schießen\, In den Gabrissen 91\, 1210 Wien
DESCRIPTION:Der abgesagte 1. HSV-Cup und 1. SSLV-Cup kann zu diesen Terminen nachgeschossen werden. Bitte bei der Anmeldung vermerken.
URL;VALUE=URI:http://schiessen.hsv-wien.at
SUMMARY:2. HSV Cup SSLG &amp\; AUG-Z
DTSTART:
END:VEVENT
END:VCALENDAR